BEGIN:VCALENDAR
VERSION:2.0
PRODID:-//123 On Third - ECPv6.15.20//NONSGML v1.0//EN
CALSCALE:GREGORIAN
METHOD:PUBLISH
X-WR-CALNAME:123 On Third
X-ORIGINAL-URL:https://123onthird.com
X-WR-CALDESC:Events for 123 On Third
REFRESH-INTERVAL;VALUE=DURATION:PT1H
X-Robots-Tag:noindex
X-PUBLISHED-TTL:PT1H
BEGIN:VTIMEZONE
TZID:UTC
BEGIN:STANDARD
TZOFFSETFROM:+0000
TZOFFSETTO:+0000
TZNAME:UTC
DTSTART:20230101T000000
END:STANDARD
END:VTIMEZONE
BEGIN:VEVENT
DTSTART;TZID=UTC:20240814T180000
DTEND;TZID=UTC:20240814T210000
DTSTAMP:20260421T232945
CREATED:20240607T213155Z
LAST-MODIFIED:20240620T222415Z
UID:271-1723658400-1723669200@123onthird.com
SUMMARY:123 On Third Supper Club Featuring LeTruff Noir
DESCRIPTION:123 On Third Supper Club Presents: \nA culinary experience that celebrates the essence of vegetables. Join us for The Botanical Epicure Feast. \nTruffle Potato Gallette\, Harissa Infused Eggplant Medallions\, Cabbage Roulade with Mushroom Duxelles\, & Lemon Sponge Cake Delight\nBYOB \n  \n 
URL:https://123onthird.com/event/123-on-third-supper-club-featuring-letruff-noir/
LOCATION:123 On Third\, 123 S Third St\, Geneva\, IL\, 60134\, United States
ORGANIZER;CN="123 On Third":MAILTO:hirallg16@gmail.com
END:VEVENT
BEGIN:VEVENT
DTSTART;TZID=UTC:20240717T180000
DTEND;TZID=UTC:20240717T210000
DTSTAMP:20260421T232945
CREATED:20240620T205718Z
LAST-MODIFIED:20240714T211740Z
UID:277-1721239200-1721250000@123onthird.com
SUMMARY:The Bourgeois Table
DESCRIPTION:Join us for our Supper Club Series. \nIndulge in Culinary Opulence: The Bourgeois Table. The menu\, meticulously crafted by our talented chef Veronica LePinske\, promises a symphony of flavors. \nMushroom Pâté\, Citrus Salad with Goat Cheese\, Gazpacho Provence\, Tenderloin of Beef with Potato Pave\, Canelé de Bordeaux paired with Crème Fraîche Ice Cream. \nBYOB
URL:https://123onthird.com/event/the-bourgeois-table/
LOCATION:123 On Third\, 123 S Third St\, Geneva\, IL\, 60134\, United States
ORGANIZER;CN="123 On Third":MAILTO:hirallg16@gmail.com
END:VEVENT
END:VCALENDAR