BEGIN:VCALENDAR
VERSION:2.0
PRODID:-//123 On Third - ECPv6.15.20//NONSGML v1.0//EN
CALSCALE:GREGORIAN
METHOD:PUBLISH
X-ORIGINAL-URL:https://123onthird.com
X-WR-CALDESC:Events for 123 On Third
REFRESH-INTERVAL;VALUE=DURATION:PT1H
X-Robots-Tag:noindex
X-PUBLISHED-TTL:PT1H
BEGIN:VTIMEZONE
TZID:UTC
BEGIN:STANDARD
TZOFFSETFROM:+0000
TZOFFSETTO:+0000
TZNAME:UTC
DTSTART:20230101T000000
END:STANDARD
END:VTIMEZONE
BEGIN:VEVENT
DTSTART;TZID=UTC:20240918T180000
DTEND;TZID=UTC:20240918T210000
DTSTAMP:20260421T124254
CREATED:20240812T221809Z
LAST-MODIFIED:20240817T183204Z
UID:374-1726682400-1726693200@123onthird.com
SUMMARY:A Taste of Basque and Barcelona
DESCRIPTION:Join us at 123 on Third in Geneva for an unforgettable culinary journey through the vibrant flavors of Basque Country and Barcelona. Chef Veronica LePinske presents a meticulously crafted menu that promises to delight your senses and transport you to the heart of Spain. \nMenu: Pintxos\, Goat Cheese & Caramelized Onion & Jamón Ibérico & Manchego on Toasted Bread\, Melón con Jamón Ibérico Salad with Frisée\, Gambas Al Ajillo (Sautéed Shrimp with Garlic and Herbs)\, Bacalao al Pil Pil (Cod cooked in Olive Oil and Garlic with Romesco Sauce)\, and to finish Crema Catalana con Frutas del Bosque (Brûleed Custard with Berries) \nVegetarian menu available upon request. \nIndulge in this exclusive dining experience and savor the essence of Spanish cuisine. Reserve your seat today and be part of an evening filled with exquisite flavors and delightful company. \nBYOB
URL:https://123onthird.com/event/a-taste-of-basque-and-barcelona/
LOCATION:123 On Third\, 123 S Third St\, Geneva\, IL\, 60134\, United States
ORGANIZER;CN="123 On Third":MAILTO:hirallg16@gmail.com
END:VEVENT
END:VCALENDAR